BEGIN:VCALENDAR
VERSION:2.0
PRODID:-//Tukios.com/
BEGIN:VEVENT
UID:57ec1645-67d0-42a0-a95c-9f6631b6832a@www.donohuefuneralhome.com
DTSTAMP:20260424T195557Z
DTSTART:20260430
SUMMARY:Interment
DESCRIPTION:
URL:https://www.donohuefuneralhome.com/obituaries/samuel-sammy-redding
LOCATION:Mount Peace Cemetery 3111 W Lehigh Ave  Philadelphia PA 19132
GEO:39.9978829;-75.1824162
END:VEVENT
END:VCALENDAR