BEGIN:VCALENDAR
VERSION:2.0
PRODID:-//Tukios.com/
BEGIN:VEVENT
UID:8472b22e-5f73-410d-892a-97fdf6819741@www.donohuefuneralhome.com
DTSTAMP:20260424T195557Z
DTSTART:20260430T150000Z
DTEND:20260430T160000Z
SUMMARY:Funeral Mass
DESCRIPTION:
URL:https://www.donohuefuneralhome.com/obituaries/samuel-sammy-redding
LOCATION: 686 Old Marple Rd  Springfield PA 19064
GEO:39.9421664;-75.3513293
END:VEVENT
END:VCALENDAR