BEGIN:VCALENDAR
VERSION:2.0
PRODID:-//Tukios.com/
BEGIN:VEVENT
UID:df38d7bb-e87d-49a2-a32c-ce2690397ded@www.donohuefuneralhome.com
DTSTAMP:20260424T195613Z
DTSTART:20260430T140000Z
DTEND:20260430T150000Z
SUMMARY:Viewing
DESCRIPTION:
URL:https://www.donohuefuneralhome.com/obituaries/samuel-sammy-redding
LOCATION: 686 Old Marple Rd  Springfield PA 19064
GEO:39.9421664;-75.3513293
END:VEVENT
END:VCALENDAR