BEGIN:VCALENDAR
VERSION:2.0
PRODID:-//Tukios.com/
BEGIN:VEVENT
UID:89befc6f-72a2-457b-a9aa-6d4d1657f351@www.donohuefuneralhome.com
DTSTAMP:20260419T171428Z
DTSTART:20260422T130000Z
DTEND:20260422T153000Z
SUMMARY:Viewing
DESCRIPTION:
URL:https://www.donohuefuneralhome.com/obituaries/robert-j-adams
LOCATION: 8401 W. Chester Pike  Upper Darby PA 19082
GEO:39.9665637;-75.2823757
END:VEVENT
END:VCALENDAR