BEGIN:VCALENDAR
VERSION:2.0
PRODID:-//Tukios.com/
BEGIN:VEVENT
UID:efd29fe4-7a1c-4de6-baf5-bdde30096dcf@www.donohuefuneralhome.com
DTSTAMP:20260422T155515Z
DTSTART:20260430T150000Z
DTEND:20260430T170000Z
SUMMARY:Viewing
DESCRIPTION:
URL:https://www.donohuefuneralhome.com/obituaries/leslie-teeple-md
LOCATION: 1627 W. Chester Pike  West Chester PA 19382
GEO:39.9664264;-75.514147
END:VEVENT
END:VCALENDAR