BEGIN:VCALENDAR
VERSION:2.0
PRODID:-//Tukios.com/
BEGIN:VEVENT
UID:8f5e4f06-9ffc-44d3-ade2-f84395c87296@www.donohuefuneralhome.com
DTSTAMP:20260425T165331Z
DTSTART:20260430T143000Z
DTEND:20260430T153000Z
SUMMARY:Funeral Service
DESCRIPTION:
URL:https://www.donohuefuneralhome.com/obituaries/kathleen-peterson
LOCATION:St. Laurence Catholic Church 8245 West Chester Pike  Upper Darby 
	PA 19082
GEO:39.966696;-75.2799428
END:VEVENT
END:VCALENDAR