BEGIN:VCALENDAR
VERSION:2.0
PRODID:-//Tukios.com/
BEGIN:VEVENT
UID:a7160e39-0ea1-4083-9560-a2e828576b08@www.donohuefuneralhome.com
DTSTAMP:20260421T200710Z
DTSTART:20260425
SUMMARY:Interment
DESCRIPTION:
URL:https://www.donohuefuneralhome.com/obituaries/julia-bruce
LOCATION: 1600 Sproul Rd  Springfield PA 19064
GEO:39.9530841;-75.3524558
END:VEVENT
END:VCALENDAR