BEGIN:VCALENDAR
VERSION:2.0
PRODID:-//Tukios.com/
BEGIN:VEVENT
UID:a6202b81-d282-40e5-9bff-d9497c6cd99e@www.donohuefuneralhome.com
DTSTAMP:20260421T200756Z
DTSTART:20260425T143000Z
DTEND:20260425T153000Z
SUMMARY:Mass
DESCRIPTION:
URL:https://www.donohuefuneralhome.com/obituaries/julia-bruce
LOCATION: 3301 West Chester Pike  Newtown Square PA 19073
GEO:39.9854352;-75.3831471
END:VEVENT
END:VCALENDAR