BEGIN:VCALENDAR
VERSION:2.0
PRODID:-//Tukios.com/
BEGIN:VEVENT
UID:e2e4fbba-9f78-4072-9fe6-f68113b41055@www.donohuefuneralhome.com
DTSTAMP:20260421T200710Z
DTSTART:20260425T133000Z
DTEND:20260425T143000Z
SUMMARY:Viewing
DESCRIPTION:
URL:https://www.donohuefuneralhome.com/obituaries/julia-bruce
LOCATION: 3301 West Chester Pike  Newtown Square PA 19073
GEO:39.9854352;-75.3831471
END:VEVENT
END:VCALENDAR