BEGIN:VCALENDAR
VERSION:2.0
PRODID:-//Tukios.com/
BEGIN:VEVENT
UID:e06ff5eb-6d52-4908-bf2b-5777517cea17@www.donohuefuneralhome.com
DTSTAMP:20260420T175450Z
DTSTART:20260424T140000Z
DTEND:20260424T150000Z
SUMMARY:Funeral Mass
DESCRIPTION:
URL:https://www.donohuefuneralhome.com/obituaries/judith-mouraview
LOCATION: 105 Wilson Ave  Havertown PA 19083
GEO:39.9729485;-75.3119273
END:VEVENT
END:VCALENDAR