BEGIN:VCALENDAR
VERSION:2.0
PRODID:-//Tukios.com/
BEGIN:VEVENT
UID:b379fb56-f485-4d96-827d-aafddd112637@www.donohuefuneralhome.com
DTSTAMP:20260420T175753Z
DTSTART:20260424T130000Z
DTEND:20260424T140000Z
SUMMARY:Visitation
DESCRIPTION:
URL:https://www.donohuefuneralhome.com/obituaries/judith-mouraview
LOCATION: 105 Wilson Ave  Havertown PA 19083
GEO:39.9729485;-75.3119273
END:VEVENT
END:VCALENDAR