BEGIN:VCALENDAR
VERSION:2.0
PRODID:-//Tukios.com/
BEGIN:VEVENT
UID:294da48c-8df7-4808-b42a-3cb7a3733af7@www.donohuefuneralhome.com
DTSTAMP:20260421T000712Z
DTSTART:20260502
SUMMARY:Interment
DESCRIPTION:
URL:https://www.donohuefuneralhome.com/obituaries/james-jim-black
LOCATION: 1600 S Sproul Rd  Springfield PA 19064
GEO:39.9528956;-75.3531751
END:VEVENT
END:VCALENDAR