BEGIN:VCALENDAR
VERSION:2.0
PRODID:-//Tukios.com/
BEGIN:VEVENT
UID:17d287aa-2df5-4c0a-95a0-f4750a5404b3@www.donohuefuneralhome.com
DTSTAMP:20260421T000712Z
DTSTART:20260502T150000Z
DTEND:20260502T160000Z
SUMMARY:Funeral Service
DESCRIPTION:
URL:https://www.donohuefuneralhome.com/obituaries/james-jim-black
LOCATION:St. Laurence Church 8245 West Chester Pike  Upper Darby PA 19082
GEO:39.966696;-75.2799428
END:VEVENT
END:VCALENDAR