BEGIN:VCALENDAR
VERSION:2.0
PRODID:-//Tukios.com/
BEGIN:VEVENT
UID:3f120a02-8909-4168-80d2-c2cb9dc98f46@www.donohuefuneralhome.com
DTSTAMP:20260421T000545Z
DTSTART:20260502T133000Z
DTEND:20260502T150000Z
SUMMARY:Viewing
DESCRIPTION:
URL:https://www.donohuefuneralhome.com/obituaries/james-jim-black
LOCATION: 8245 West Chester Pike  Upper Darby PA 19082
GEO:39.966696;-75.2799428
END:VEVENT
END:VCALENDAR