BEGIN:VCALENDAR
VERSION:2.0
PRODID:-//Tukios.com/
BEGIN:VEVENT
UID:18d56d8a-514e-477d-a6f2-2daa3864ac60@www.donohuefuneralhome.com
DTSTAMP:20260422T185634Z
DTSTART:20260427
SUMMARY:Interment
DESCRIPTION:
URL:https://www.donohuefuneralhome.com/obituaries/irene-gosselin
LOCATION: 1600 Sproul Rd  Springfield PA 19064
GEO:39.9530841;-75.3524558
END:VEVENT
END:VCALENDAR