BEGIN:VCALENDAR
VERSION:2.0
PRODID:-//Tukios.com/
BEGIN:VEVENT
UID:e217cf18-802c-4f7e-b4aa-4fe2ab257c67@www.donohuefuneralhome.com
DTSTAMP:20260422T185656Z
DTSTART:20260427T153000Z
DTEND:20260427T163000Z
SUMMARY:Funeral Mass
DESCRIPTION:
URL:https://www.donohuefuneralhome.com/obituaries/irene-gosselin
LOCATION: 8 Cavanaugh Ct  West Chester PA 19382
GEO:39.9649514;-75.5221198
END:VEVENT
END:VCALENDAR