BEGIN:VCALENDAR
VERSION:2.0
PRODID:-//Tukios.com/
BEGIN:VEVENT
UID:da60e84c-e579-42fb-8ec7-373a0caccb75@www.donohuefuneralhome.com
DTSTAMP:20260422T185655Z
DTSTART:20260427T143000Z
DTEND:20260427T153000Z
SUMMARY:Visitation
DESCRIPTION:
URL:https://www.donohuefuneralhome.com/obituaries/irene-gosselin
LOCATION: 8 Cavanaugh Ct  West Chester PA 19382
GEO:39.9649514;-75.5221198
END:VEVENT
END:VCALENDAR