BEGIN:VCALENDAR
VERSION:2.0
PRODID:-//Tukios.com/
BEGIN:VEVENT
UID:03c29400-96ab-40d2-b1df-7a05273e3d8b@www.donohuefuneralhome.com
DTSTAMP:20260425T182254Z
DTSTART:20260429T153000Z
DTEND:20260429T163000Z
SUMMARY:Mass
DESCRIPTION:
URL:https://www.donohuefuneralhome.com/obituaries/daniel-mccartney
LOCATION:SS Simon & Jude Church 8 Cavanaugh Ct  West Chester PA 19382
GEO:39.9649514;-75.5221198
END:VEVENT
END:VCALENDAR