BEGIN:VCALENDAR
VERSION:2.0
PRODID:-//Tukios.com/
BEGIN:VEVENT
UID:d54426c2-adcc-45f2-be47-fbc28485caad@www.donohuefuneralhome.com
DTSTAMP:20260425T182254Z
DTSTART:20260429T143000Z
DTEND:20260429T153000Z
SUMMARY:Visitation
DESCRIPTION:
URL:https://www.donohuefuneralhome.com/obituaries/daniel-mccartney
LOCATION: 8 Cavanaugh Ct  West Chester PA 19382
GEO:39.9649514;-75.5221198
END:VEVENT
END:VCALENDAR