BEGIN:VCALENDAR
VERSION:2.0
PRODID:-//Tukios.com/
BEGIN:VEVENT
UID:5748ab77-8ef6-4213-a1d3-003d2a37b9f0@www.donohuefuneralhome.com
DTSTAMP:20260423T213311Z
DTSTART:20260427T150000Z
DTEND:20260427T160000Z
SUMMARY:Funeral Service
DESCRIPTION:
URL:https://www.donohuefuneralhome.com/obituaries/carreen-guglielmino
LOCATION: 8401 W. Chester Pike  Upper Darby PA 19082
GEO:39.9665637;-75.2823757
END:VEVENT
END:VCALENDAR