BEGIN:VCALENDAR
VERSION:2.0
PRODID:-//Tukios.com/
BEGIN:VEVENT
UID:fb11fc03-094f-4f15-9ef1-b638e9858808@www.donohuefuneralhome.com
DTSTAMP:20260423T213352Z
DTSTART:20260427T140000Z
DTEND:20260427T150000Z
SUMMARY:Visitation
DESCRIPTION:
URL:https://www.donohuefuneralhome.com/obituaries/carreen-guglielmino
LOCATION: 8401 W. Chester Pike  Upper Darby PA 19082
GEO:39.9665637;-75.2823757
END:VEVENT
END:VCALENDAR