BEGIN:VCALENDAR
VERSION:2.0
PRODID:-//Tukios.com/
BEGIN:VEVENT
UID:d215016b-2908-4546-a8d1-047ef047aa2b@www.donohuefuneralhome.com
DTSTAMP:20260421T173642Z
DTSTART:20260424
SUMMARY:Interment
DESCRIPTION:
URL:https://www.donohuefuneralhome.com/obituaries/audrey-herley
LOCATION: 1050 Pottstown Pike  West Chester PA 19380
GEO:39.982624;-75.61943
END:VEVENT
END:VCALENDAR