BEGIN:VCALENDAR
VERSION:2.0
PRODID:-//Tukios.com/
BEGIN:VEVENT
UID:67c5cac6-0d11-47cb-8f4a-98dfd1c26b8f@www.donohuefuneralhome.com
DTSTAMP:20260421T174354Z
DTSTART:20260424T153000Z
DTEND:20260424T163000Z
SUMMARY:Mass
DESCRIPTION:
URL:https://www.donohuefuneralhome.com/obituaries/audrey-herley
LOCATION:SS Simon & Jude Church 8 Cavanaugh Ct  West Chester PA 19382
GEO:39.9649514;-75.5221198
END:VEVENT
END:VCALENDAR