BEGIN:VCALENDAR
VERSION:2.0
PRODID:-//Tukios.com/
BEGIN:VEVENT
UID:ac5ab966-12a0-4e65-aff6-bb1e928daf13@www.donohuefuneralhome.com
DTSTAMP:20260423T194231Z
DTSTART:20260501
SUMMARY:Interment
DESCRIPTION:
URL:https://www.donohuefuneralhome.com/obituaries/ann-hay
LOCATION: 1600 Sproul Rd  Springfield PA 19064
GEO:39.9530841;-75.3524558
END:VEVENT
END:VCALENDAR