BEGIN:VCALENDAR
VERSION:2.0
PRODID:-//Tukios.com/
BEGIN:VEVENT
UID:f44aeace-4ef2-464c-a480-ed13158e3247@www.donohuefuneralhome.com
DTSTAMP:20260423T194313Z
DTSTART:20260501T143000Z
DTEND:20260501T153000Z
SUMMARY:Mass
DESCRIPTION:
URL:https://www.donohuefuneralhome.com/obituaries/ann-hay
LOCATION: 3301 West Chester Pike  Newtown Square PA 19073
GEO:39.9854352;-75.3831471
END:VEVENT
END:VCALENDAR