BEGIN:VCALENDAR
VERSION:2.0
PRODID:-//Tukios.com/
BEGIN:VEVENT
UID:5322f076-911b-4a8f-90e8-3a2135e3eaad@www.donohuefuneralhome.com
DTSTAMP:20260423T193857Z
DTSTART:20260501T133000Z
DTEND:20260501T143000Z
SUMMARY:Visitation
DESCRIPTION:
URL:https://www.donohuefuneralhome.com/obituaries/ann-hay
LOCATION: 3301 West Chester Pike  Newtown Square PA 19073
GEO:39.9854352;-75.3831471
END:VEVENT
END:VCALENDAR